BEGIN:VCALENDAR
VERSION:2.0
PRODID:-//Blydyn Square Books - ECPv6.15.20//NONSGML v1.0//EN
CALSCALE:GREGORIAN
METHOD:PUBLISH
X-ORIGINAL-URL:https://blydynsquarebooks.com
X-WR-CALDESC:Events for Blydyn Square Books
REFRESH-INTERVAL;VALUE=DURATION:PT1H
X-Robots-Tag:noindex
X-PUBLISHED-TTL:PT1H
BEGIN:VTIMEZONE
TZID:America/New_York
BEGIN:DAYLIGHT
TZOFFSETFROM:-0500
TZOFFSETTO:-0400
TZNAME:EDT
DTSTART:20210314T070000
END:DAYLIGHT
BEGIN:STANDARD
TZOFFSETFROM:-0400
TZOFFSETTO:-0500
TZNAME:EST
DTSTART:20211107T060000
END:STANDARD
BEGIN:DAYLIGHT
TZOFFSETFROM:-0500
TZOFFSETTO:-0400
TZNAME:EDT
DTSTART:20220313T070000
END:DAYLIGHT
BEGIN:STANDARD
TZOFFSETFROM:-0400
TZOFFSETTO:-0500
TZNAME:EST
DTSTART:20221106T060000
END:STANDARD
BEGIN:DAYLIGHT
TZOFFSETFROM:-0500
TZOFFSETTO:-0400
TZNAME:EDT
DTSTART:20230312T070000
END:DAYLIGHT
BEGIN:STANDARD
TZOFFSETFROM:-0400
TZOFFSETTO:-0500
TZNAME:EST
DTSTART:20231105T060000
END:STANDARD
END:VTIMEZONE
BEGIN:VEVENT
DTSTART;TZID=America/New_York:20220331T170000
DTEND;TZID=America/New_York:20220331T180000
DTSTAMP:20260422T173656
CREATED:20220303T174040Z
LAST-MODIFIED:20220303T174040Z
UID:6731-1648746000-1648749600@blydynsquarebooks.com
SUMMARY:Happy Hour
DESCRIPTION:Join the staff and authors of Blydyn Square Books to chat about publishing\, working with a small press\, the ups and downs of the writing life\, and whatever else comes up. Hope to see you there!
URL:https://blydynsquarebooks.com/event/happy-hour-2/
LOCATION:Online Event
CATEGORIES:Happy Hour
ATTACH;FMTTYPE=image/jpeg:https://blydynsquarebooks.com/wp-content/uploads/2022/03/Happy-Hour-Image-3-scaled.jpg
END:VEVENT
END:VCALENDAR