BEGIN:VCALENDAR
VERSION:2.0
PRODID:-//Blydyn Square Books - ECPv6.15.20//NONSGML v1.0//EN
CALSCALE:GREGORIAN
METHOD:PUBLISH
X-ORIGINAL-URL:https://blydynsquarebooks.com
X-WR-CALDESC:Events for Blydyn Square Books
REFRESH-INTERVAL;VALUE=DURATION:PT1H
X-Robots-Tag:noindex
X-PUBLISHED-TTL:PT1H
BEGIN:VTIMEZONE
TZID:America/New_York
BEGIN:DAYLIGHT
TZOFFSETFROM:-0500
TZOFFSETTO:-0400
TZNAME:EDT
DTSTART:20190310T070000
END:DAYLIGHT
BEGIN:STANDARD
TZOFFSETFROM:-0400
TZOFFSETTO:-0500
TZNAME:EST
DTSTART:20191103T060000
END:STANDARD
BEGIN:DAYLIGHT
TZOFFSETFROM:-0500
TZOFFSETTO:-0400
TZNAME:EDT
DTSTART:20200308T070000
END:DAYLIGHT
BEGIN:STANDARD
TZOFFSETFROM:-0400
TZOFFSETTO:-0500
TZNAME:EST
DTSTART:20201101T060000
END:STANDARD
BEGIN:DAYLIGHT
TZOFFSETFROM:-0500
TZOFFSETTO:-0400
TZNAME:EDT
DTSTART:20210314T070000
END:DAYLIGHT
BEGIN:STANDARD
TZOFFSETFROM:-0400
TZOFFSETTO:-0500
TZNAME:EST
DTSTART:20211107T060000
END:STANDARD
BEGIN:DAYLIGHT
TZOFFSETFROM:-0500
TZOFFSETTO:-0400
TZNAME:EDT
DTSTART:20220313T070000
END:DAYLIGHT
BEGIN:STANDARD
TZOFFSETFROM:-0400
TZOFFSETTO:-0500
TZNAME:EST
DTSTART:20221106T060000
END:STANDARD
END:VTIMEZONE
BEGIN:VEVENT
DTSTART;TZID=America/New_York:20210218T170000
DTEND;TZID=America/New_York:20210218T180000
DTSTAMP:20260421T103720
CREATED:20210116T210702Z
LAST-MODIFIED:20210116T210702Z
UID:6395-1613667600-1613671200@blydynsquarebooks.com
SUMMARY:February 2021 Happy Hour
DESCRIPTION:Join the staff and authors of Blydyn Square Books to chat about publishing\, literature\, what it’s like to work with a small press\, and whatever else comes to mind. You bring the drinks; we’ll bring the book chat.
URL:https://blydynsquarebooks.com/event/february-2021-happy-hour/
LOCATION:Online Event
CATEGORIES:Happy Hour
ATTACH;FMTTYPE=image/jpeg:https://blydynsquarebooks.com/wp-content/uploads/2020/11/Happy-Hour-image.jpg
END:VEVENT
BEGIN:VEVENT
DTSTART;TZID=America/New_York:20210114T170000
DTEND;TZID=America/New_York:20210114T180000
DTSTAMP:20260421T103720
CREATED:20201120T235352Z
LAST-MODIFIED:20201120T235352Z
UID:6317-1610643600-1610647200@blydynsquarebooks.com
SUMMARY:Blydyn Square Books Monthly Happy Hour - January
DESCRIPTION:Join the staff and authors of Blydyn Square Books to chat about books\, publishing\, or whatever comes to mind. Bring your questions (and a drink) and we’ll bring the book talk!
URL:https://blydynsquarebooks.com/event/blydyn-square-books-monthly-happy-hour-january/
LOCATION:Online Event
CATEGORIES:Happy Hour
ATTACH;FMTTYPE=image/jpeg:https://blydynsquarebooks.com/wp-content/uploads/2020/11/Happy-Hour-scaled.jpg
END:VEVENT
BEGIN:VEVENT
DTSTART;TZID=America/New_York:20201210T170000
DTEND;TZID=America/New_York:20201210T180000
DTSTAMP:20260421T103720
CREATED:20201114T125216Z
LAST-MODIFIED:20201114T125216Z
UID:6310-1607619600-1607623200@blydynsquarebooks.com
SUMMARY:Blydyn Square Books December Happy Hour
DESCRIPTION:Join the staff and authors of Blydyn Square Books as we chat about our current and future titles\, and whatever else comes to mind. Get the inside scoop on what it’s like to work for (and be published by) a small press. You bring the drinks and we’ll bring the book talk.
URL:https://blydynsquarebooks.com/event/blydyn-square-books-december-happy-hour/
LOCATION:Online Event
CATEGORIES:Happy Hour
ATTACH;FMTTYPE=image/jpeg:https://blydynsquarebooks.com/wp-content/uploads/2020/11/Happy-Hour-image.jpg
END:VEVENT
BEGIN:VEVENT
DTSTART;TZID=America/New_York:20201113T080000
DTEND;TZID=America/New_York:20201113T170000
DTSTAMP:20260421T103720
CREATED:20201113T132603Z
LAST-MODIFIED:20201113T132603Z
UID:6307-1605254400-1605286800@blydynsquarebooks.com
SUMMARY:Monthly Blydyn Square Books Happy Hour - December 2020
DESCRIPTION:Join the staff and authors of Blydyn Square Books as we chat about our current and future titles\, and whatever else comes to mind. Get the inside scoop on what it’s like to work for (and be published by) a small press. You bring the drinks and we’ll bring the book talk.
URL:https://blydynsquarebooks.com/event/get-the-inside-scoop-on-what-its-like-to-work-for-and-be-published-by-a-small-press-you-bring-the-drinks-and-well-bring-the-book-talk/
LOCATION:Online Event
CATEGORIES:Happy Hour
ATTACH;FMTTYPE=image/jpeg:https://blydynsquarebooks.com/wp-content/uploads/2020/11/Happy-Hour-image.jpg
END:VEVENT
BEGIN:VEVENT
DTSTART;TZID=America/New_York:20201112T170000
DTEND;TZID=America/New_York:20201112T180000
DTSTAMP:20260421T103720
CREATED:20201024T160635Z
LAST-MODIFIED:20201024T160635Z
UID:6302-1605200400-1605204000@blydynsquarebooks.com
SUMMARY:First Monthly Blydyn Square Books Happy Hour
DESCRIPTION:Join the staff and authors of Blydyn Square Books as we chat about our current and future titles\, and whatever else comes to mind. Get the inside scoop on what it’s like to work for (and be published by) a small press. You bring the drinks and we’ll bring the book talk. 
URL:https://blydynsquarebooks.com/event/first-monthly-blydyn-square-books-happy-hour/
CATEGORIES:Happy Hour
ATTACH;FMTTYPE=image/jpeg:https://blydynsquarebooks.com/wp-content/uploads/2020/10/Happy-Hour-scaled.jpg
END:VEVENT
END:VCALENDAR