BEGIN:VCALENDAR
VERSION:2.0
PRODID:-//Blydyn Square Books - ECPv6.15.20//NONSGML v1.0//EN
CALSCALE:GREGORIAN
METHOD:PUBLISH
X-ORIGINAL-URL:https://blydynsquarebooks.com
X-WR-CALDESC:Events for Blydyn Square Books
REFRESH-INTERVAL;VALUE=DURATION:PT1H
X-Robots-Tag:noindex
X-PUBLISHED-TTL:PT1H
BEGIN:VTIMEZONE
TZID:America/New_York
BEGIN:DAYLIGHT
TZOFFSETFROM:-0500
TZOFFSETTO:-0400
TZNAME:EDT
DTSTART:20240310T070000
END:DAYLIGHT
BEGIN:STANDARD
TZOFFSETFROM:-0400
TZOFFSETTO:-0500
TZNAME:EST
DTSTART:20241103T060000
END:STANDARD
BEGIN:DAYLIGHT
TZOFFSETFROM:-0500
TZOFFSETTO:-0400
TZNAME:EDT
DTSTART:20250309T070000
END:DAYLIGHT
BEGIN:STANDARD
TZOFFSETFROM:-0400
TZOFFSETTO:-0500
TZNAME:EST
DTSTART:20251102T060000
END:STANDARD
BEGIN:DAYLIGHT
TZOFFSETFROM:-0500
TZOFFSETTO:-0400
TZNAME:EDT
DTSTART:20260308T070000
END:DAYLIGHT
BEGIN:STANDARD
TZOFFSETFROM:-0400
TZOFFSETTO:-0500
TZNAME:EST
DTSTART:20261101T060000
END:STANDARD
END:VTIMEZONE
BEGIN:VEVENT
DTSTART;TZID=America/New_York:20250307T190000
DTEND;TZID=America/New_York:20250307T200000
DTSTAMP:20260422T114112
CREATED:20250127T222356Z
LAST-MODIFIED:20250127T222410Z
UID:7699-1741374000-1741377600@blydynsquarebooks.com
SUMMARY:Ask Me Anything with Editor in Chief Tara Tomczyk
DESCRIPTION:As we get ready to celebrate the 10th anniversary of Blydyn Square Books\, we’re giving readers and writers a unique opportunity to meet (via Zoom) with Tara Tomczyk\, our editor in chief and founder\, to discuss the publishing industry\, writing tips\, Blydyn Square’s vision for the future\, or whatever comes up! \n 
URL:https://blydynsquarebooks.com/event/ask-me-anything-with-editor-in-chief-tara-tomczyk/
LOCATION:Online Event
CATEGORIES:Webinar
ATTACH;FMTTYPE=image/jpeg:https://blydynsquarebooks.com/wp-content/uploads/2025/01/Ask-Me-Anything.jpg
END:VEVENT
END:VCALENDAR