BEGIN:VCALENDAR
VERSION:2.0
PRODID:-//Blydyn Square Books - ECPv6.15.20//NONSGML v1.0//EN
CALSCALE:GREGORIAN
METHOD:PUBLISH
X-ORIGINAL-URL:https://blydynsquarebooks.com
X-WR-CALDESC:Events for Blydyn Square Books
REFRESH-INTERVAL;VALUE=DURATION:PT1H
X-Robots-Tag:noindex
X-PUBLISHED-TTL:PT1H
BEGIN:VTIMEZONE
TZID:America/New_York
BEGIN:DAYLIGHT
TZOFFSETFROM:-0500
TZOFFSETTO:-0400
TZNAME:EDT
DTSTART:20210314T070000
END:DAYLIGHT
BEGIN:STANDARD
TZOFFSETFROM:-0400
TZOFFSETTO:-0500
TZNAME:EST
DTSTART:20211107T060000
END:STANDARD
BEGIN:DAYLIGHT
TZOFFSETFROM:-0500
TZOFFSETTO:-0400
TZNAME:EDT
DTSTART:20220313T070000
END:DAYLIGHT
BEGIN:STANDARD
TZOFFSETFROM:-0400
TZOFFSETTO:-0500
TZNAME:EST
DTSTART:20221106T060000
END:STANDARD
BEGIN:DAYLIGHT
TZOFFSETFROM:-0500
TZOFFSETTO:-0400
TZNAME:EDT
DTSTART:20230312T070000
END:DAYLIGHT
BEGIN:STANDARD
TZOFFSETFROM:-0400
TZOFFSETTO:-0500
TZNAME:EST
DTSTART:20231105T060000
END:STANDARD
END:VTIMEZONE
BEGIN:VEVENT
DTSTART;TZID=America/New_York:20220623T180000
DTEND;TZID=America/New_York:20220623T190000
DTSTAMP:20260422T191428
CREATED:20220429T160332Z
LAST-MODIFIED:20220429T160332Z
UID:6831-1656007200-1656010800@blydynsquarebooks.com
SUMMARY:A Chat with James Brian Kerr\, Author of The Long Walk Home
DESCRIPTION:Lost your job in the craziness of COVID? Just graduated from school and not sure what to do next? Thinking about retiring\, changing jobs\, or pursuing a lifelong dream? Whatever your circumstances\, you’ll find inspiration in James Brian Kerr’s debut book\, The Long Walk Home: How I Lost My Job as a Corporate Remora Fish and Rediscovered My Life’s Purpose.  \nImagine losing your high-paying job as an executive after almost 30 years at a multibillion-dollar company. How would you react? When it happened to author and former Fortune 500 PR executive James Brian Kerr\, the answer was simple: Walk more than 20 miles home. \nIn The Long Walk Home\, Kerr invites us to join him on his strange journey from impending unemployment to self-discovery\, and reminds us that the only true journey is the journey within.  \nJoin the authors and staff of Blydyn Square Books and the members of the Blydyn Square Book Club via Zoom (https://us06web.zoom.us/j/89481868463) on June 23 at 6:00 p.m. (ET) for a very special evening with author James Brian Kerr. We’ll talk about his book and his insights on today’s turbulent work environment\, and he’ll answer questions from readers. Hope to see you there!
URL:https://blydynsquarebooks.com/event/a-chat-with-james-brian-kerr-author-of-the-long-walk-home/
LOCATION:Online Event
CATEGORIES:Book Club
ATTACH;FMTTYPE=image/png:https://blydynsquarebooks.com/wp-content/uploads/2022/01/longwalk.png
END:VEVENT
END:VCALENDAR